BEGIN:VCALENDAR
VERSION:2.0
PRODID:-//e180grad - ECPv6.15.20//NONSGML v1.0//EN
CALSCALE:GREGORIAN
METHOD:PUBLISH
X-WR-CALNAME:e180grad
X-ORIGINAL-URL:https://e180grad.de
X-WR-CALDESC:Veranstaltungen für e180grad
REFRESH-INTERVAL;VALUE=DURATION:PT1H
X-Robots-Tag:noindex
X-PUBLISHED-TTL:PT1H
BEGIN:VTIMEZONE
TZID:Europe/Berlin
BEGIN:DAYLIGHT
TZOFFSETFROM:+0100
TZOFFSETTO:+0200
TZNAME:CEST
DTSTART:20240331T010000
END:DAYLIGHT
BEGIN:STANDARD
TZOFFSETFROM:+0200
TZOFFSETTO:+0100
TZNAME:CET
DTSTART:20241027T010000
END:STANDARD
BEGIN:DAYLIGHT
TZOFFSETFROM:+0100
TZOFFSETTO:+0200
TZNAME:CEST
DTSTART:20250330T010000
END:DAYLIGHT
BEGIN:STANDARD
TZOFFSETFROM:+0200
TZOFFSETTO:+0100
TZNAME:CET
DTSTART:20251026T010000
END:STANDARD
BEGIN:DAYLIGHT
TZOFFSETFROM:+0100
TZOFFSETTO:+0200
TZNAME:CEST
DTSTART:20260329T010000
END:DAYLIGHT
BEGIN:STANDARD
TZOFFSETFROM:+0200
TZOFFSETTO:+0100
TZNAME:CET
DTSTART:20261025T010000
END:STANDARD
END:VTIMEZONE
BEGIN:VEVENT
DTSTART;TZID=Europe/Berlin:20250428T170000
DTEND;TZID=Europe/Berlin:20250428T190000
DTSTAMP:20260426T014608
CREATED:20250321T080614Z
LAST-MODIFIED:20250321T081542Z
UID:572-1745859600-1745866800@e180grad.de
SUMMARY:Funktioniert eine Wärmepumpe in meinem Haus? Online-Vortrag und Gruppenberatung
DESCRIPTION:Wärmepumpen sind das Heizsystem der Zukunft! In mittlerweile 71% der Neubauten in Deutschland werden Wärmepumpen installiert – in Bestandsgebäuden gibt es allerdings noch viel Potenzial: Denn auch in älteren Gebäuden kann der Einsatz von Wärmepumpen meist effizient und wirtschaftlichgestaltet werden. \nIst mein Gebäude für den Einsatz von Wärmepumpen geeignet?\nViele Interessierte sind sich jedoch unsicher\, unter welchen Bedingungen der Einsatz von Wärmepumpen gelingt und welche Maßnahmen am und im Gebäude ggf. noch nötig sind\, um den Wärmepumpen-Einsatz zu ermöglichen. \nDie Online-Veranstaltung „Funktioniert eine Wärmepumpe in meinem Haus?“ vermittelt in diesem Kontext Wissen zu der Funktionsweise von Wärmepumpen\, geht auf verschiedene Anlagentypen ein und beantwortet die Frage\, welche Voraussetzungen für einen effizienten Einsatz von Wärmepumpen in Bestandsgebäuden erfüllt sein müssen. \nNach einem Vortrag\, in dem das Grundwissen vermittelt wird\, können Sie anschließend in Kleingruppen bei Beraterinnen und Beratern der Verbraucherzentrale erfragen\, was Sie konkret bei Ihrem Gebäude kurzfristig bzw. langfristig tun sollten\, wenn Sie auf Wärmepumpe umrüsten möchten. \nDie Teilnahme an der Veranstaltung ist kostenfrei. \nDie Anmeldung ist erforderlich. \nReferent: Gerhard Krenz (KEAN) \nDie Veranstaltung ist eine Kooperationsveranstaltung der Klimaschutz- und Energieagentur Niedersachsen\, der Verbraucherzentrale Niedersachsen und dem Landkreis Aurich.
URL:https://e180grad.de/event/funktioniert-eine-waermepumpe-in-meinem-haus-online-vortrag-und-gruppenberatung/
LOCATION:Online\, Germany
ATTACH;FMTTYPE=image/png:https://e180grad.de/wp-content/uploads/2024/09/VZ_KEAN_LK.png
END:VEVENT
END:VCALENDAR