BEGIN:VCALENDAR
VERSION:2.0
PRODID:-//e180grad - ECPv6.15.20//NONSGML v1.0//EN
CALSCALE:GREGORIAN
METHOD:PUBLISH
X-WR-CALNAME:e180grad
X-ORIGINAL-URL:https://e180grad.de
X-WR-CALDESC:Veranstaltungen für e180grad
REFRESH-INTERVAL;VALUE=DURATION:PT1H
X-Robots-Tag:noindex
X-PUBLISHED-TTL:PT1H
BEGIN:VTIMEZONE
TZID:Europe/Berlin
BEGIN:DAYLIGHT
TZOFFSETFROM:+0100
TZOFFSETTO:+0200
TZNAME:CEST
DTSTART:20250330T010000
END:DAYLIGHT
BEGIN:STANDARD
TZOFFSETFROM:+0200
TZOFFSETTO:+0100
TZNAME:CET
DTSTART:20251026T010000
END:STANDARD
BEGIN:DAYLIGHT
TZOFFSETFROM:+0100
TZOFFSETTO:+0200
TZNAME:CEST
DTSTART:20260329T010000
END:DAYLIGHT
BEGIN:STANDARD
TZOFFSETFROM:+0200
TZOFFSETTO:+0100
TZNAME:CET
DTSTART:20261025T010000
END:STANDARD
BEGIN:DAYLIGHT
TZOFFSETFROM:+0100
TZOFFSETTO:+0200
TZNAME:CEST
DTSTART:20270328T010000
END:DAYLIGHT
BEGIN:STANDARD
TZOFFSETFROM:+0200
TZOFFSETTO:+0100
TZNAME:CET
DTSTART:20271031T010000
END:STANDARD
END:VTIMEZONE
BEGIN:VEVENT
DTSTART;TZID=Europe/Berlin:20260423T190000
DTEND;TZID=Europe/Berlin:20260423T203000
DTSTAMP:20260421T121953
CREATED:20260417T090831Z
LAST-MODIFIED:20260417T090831Z
UID:711-1776970800-1776976200@e180grad.de
SUMMARY:Wärmewende\, was jetzt? Teil 1: Das Update für Hausbesitzer*innen
DESCRIPTION:Das Gebäudemodernisierungsgesetz (GMG) soll Mitte 2026 das bisherige Gebäudeenergiegesetz ablösen – und bei vielen Hausbesitzer*innen herrscht Unsicherheit: Was ändert sich? Lohnt sich Sanieren noch? Soll ich abwarten? In unserer zweiteiligen Webinar-Reihe „Wärmewende\, was jetzt?“ bringen wir Sie von der Unsicherheit ins Handeln. \nTeil 1 gibt Ihnen die Orientierung\, Teil 2 den konkreten Plan für Ihr Haus. \nDas erwartet Sie in Teil 1: Alexander Steinfeldt\, Pressesprecher von co2online\, eröffnet mit einem Blick darauf\, wie er die geplanten Änderungen einschätzt\, und gibt ein kompaktes politisches Update: – Was plant die Bundesregierung mit dem GMG? – Welche Änderungen sind aus dem Bundestag zu erwarten? Im Hauptteil ordnet Bauingenieur und Energieberater Lennart Feldmann die Pläne für Sie als Hausbesitzer*in ein: – Abwarten oder loslegen – was lohnt sich jetzt? – Ihre nächsten Schritte: der individuelle Sanierungsfahrplan (iSFP) als Startpunkt Am Ende nehmen Sie mit: Klarheit über die aktuelle Lage – und einen konkreten ersten Schritt\, den Sie direkt umsetzen können. \nRegistrierung erforderlich unter: CO2-Online
URL:https://e180grad.de/event/waermewende-was-jetzt-teil-1-das-update-fuer-hausbesitzerinnen/
LOCATION:Online\, Germany
ORGANIZER;CN="CO2-Online":MAILTO:kontakt@co2online.de
END:VEVENT
END:VCALENDAR